BEGIN:VCALENDAR
VERSION:2.0
PRODID:-//wp-events-plugin.com//7.2.3.1//EN
TZID:America/New_York
X-WR-TIMEZONE:America/New_York
BEGIN:VEVENT
UID:180@atlantahikes.com
DTSTART;TZID=America/New_York:20171202T090000
DTEND;TZID=America/New_York:20171202T170000
DTSTAMP:20171201T142103Z
URL:https://www.atlantahikes.com/events/pine-mountain-cartersville-2/
SUMMARY:Pine Mountain in Cartersville - #_LOCATIONNAME - 2 Dec 17 09:00
DESCRIPTION:Date: Saturday\, December 2\, 2017\nCarpool Time: 9:00 am at In
 town Community Church\nDifficulty: D2-D3\nHiking Distance: 5 miles\nCost: 
 $10 for carpool driver\nHike Leader:  \n\nPine Mountain is the a recreat
 ion area in the City of Cartersville. The East Loop Trailhead connects the
  city to Lake Allatoona's shoreline and reaches 1\,562 feet above sea leve
 l. The rugged trail development crosses Pine Mountain and Hurricane Hollow
 \, so named by early miners. The land is part of the 13\,000 acres that we
 re originally the site of Mark Cooper's Iron Empire. The new West Loop Tra
 ilhead is now open at I-75 Exit 288\, at the entrance to Komatsu. The West
  Loop connector was completed in Spring 2009 that ties the Pine Mountain T
 rails to Cooper's Furnace Nature Trail at the Etowah River. The trail is m
 aintained by the City of Cartersville Parks &amp\; Recreation Department. 
 This is a easy to moderate hike with some elevation climbs with switchback
 s up the ridge.\n\nThings to bring:\nGood tennis shoes\, hiking shoes or b
 oots\n1 liter of water\nSnacks\nPacked Lunch\nCamera (optional)\nLayered c
 lothing\n\n
CATEGORIES:Hiking
END:VEVENT
BEGIN:VTIMEZONE
TZID:America/New_York
X-LIC-LOCATION:America/New_York
BEGIN:STANDARD
DTSTART:20171105T010000
TZOFFSETFROM:-0400
TZOFFSETTO:-0500
TZNAME:EST
END:STANDARD
END:VTIMEZONE
END:VCALENDAR