BEGIN:VCALENDAR
VERSION:2.0
PRODID:-//wp-events-plugin.com//7.2.3.1//EN
TZID:America/New_York
X-WR-TIMEZONE:America/New_York
BEGIN:VEVENT
UID:356@atlantahikes.com
DTSTART;TZID=America/New_York:20230708T080000
DTEND;TZID=America/New_York:20230708T183000
DTSTAMP:20230707T114715Z
URL:https://www.atlantahikes.com/events/panthers-creek-waterfall-hike-swim
 -3/
SUMMARY:Panthers Creek Waterfall Hike / Swim - #_LOCATIONNAME - 8 Jul 23 08
 :00
DESCRIPTION:PANTHER CREEK FALLS\nDate: Saturday\, July 8\, 2023\nHiking Dis
 tance: 7.2 miles\nDifficulty Level: D3 (moderate)\nCarpool Time: 8:00 AM a
 t Intown Community Church\nCarpool Cost: $15 per person\nHike Leader: Rony
 \n\nA hike to the falls in 3.6 miles (one way) and return back for total o
 f 7.2-mile day hike. You follow a beautiful tumbling\, cascading stream th
 rough a steep-sided valley with rocky cliffs to the dramatic and impressiv
 e Panther Creek Falls. The trail leads down to the pool for a grand view o
 f the falling water and the large pool catching it. The trail continues th
 rough some especially grand hardwood stands. The USDA Forest Service has d
 esignated parts of this area as a Protected Botanical Area.\n\nFor those b
 rave enough you can take a swim in the pool at the waterfall and climb ont
 o the rocks under the falls. Highly recommended to cool off on the hike.\n
 \nThings to bring:\n- Snacks/lunch\n- Water (2 liters)\n- Hiking Shoes ( o
 r River Shoes)\n- Camera (optional)\n– Swimwear and towel (if you like 
 to swim or get under the waterfall)\n– change of clothes (if you like to
  swim)\n– extra pair of footwear (if you like to swim)\n– Sunglasses 
 / hat\n– Sunscreen\n– Sports drink (like Gatorade or Powerade) – rec
 ommended not required
CATEGORIES:Hiking,Swim,Waterfalls
END:VEVENT
BEGIN:VTIMEZONE
TZID:America/New_York
X-LIC-LOCATION:America/New_York
BEGIN:DAYLIGHT
DTSTART:20230312T030000
TZOFFSETFROM:-0500
TZOFFSETTO:-0400
TZNAME:EDT
END:DAYLIGHT
END:VTIMEZONE
END:VCALENDAR