BEGIN:VCALENDAR
VERSION:2.0
PRODID:-//wp-events-plugin.com//7.2.3.1//EN
TZID:America/New_York
X-WR-TIMEZONE:America/New_York
BEGIN:VEVENT
UID:241@atlantahikes.com
DTSTART;TZID=America/New_York:20190928T073000
DTEND;TZID=America/New_York:20190928T173000
DTSTAMP:20190923T115813Z
URL:https://www.atlantahikes.com/events/columbus-riverwalks-trail/
SUMMARY:Columbus Riverwalks trail - #_LOCATIONNAME - 28 Sep 19 07:30
DESCRIPTION:Date: Saturday Sep 28 2019\nCarpool Time: 7:30 AM at Intown Co
 mmunity Church\nCost: $20\nHiking distance: 6.5 miles\nTrail surfaces: mos
 tly Asphalt\, Concrete\nDifficulty: D2\nHike Leader: Rony\n\nUrban walking
  Trail\n\nThe Chattahoochee Riverwalk in Columbus\, skirts the banks of th
 e Chattahoochee River\, which follows the border between Georgia and Alaba
 ma. The meandering and hilly paved pathway links the quaint cotton mill vi
 llage of Bibb City\, downtown Columbus\, and the drill fields at Fort Benn
 ing.\n\nThe Chattahoochee River originates in the mountains of north Georg
 ia and flows to the Florida Panhandle. Steamboats loaded with cotton plied
  the river through Columbus in the 1800s and commerce depended on the rive
 r with the arrival of the railroad and other means of transportation.\n\nN
 avigate the shores of the river on the Chattahoochee Riverwalk by foot\, y
 ou will skirt the cityscape\, examine historic monuments and markers\, and
  take in the wild beauty of the rolling river and native wildlife. This li
 near park spans the riverfront from the Lake Oliver city marina south to t
 he National Infantry Museum.\n\nThe relationship between Columbus and the 
 Chattahoochee predates written history. Spanish explorers told about the f
 alls nearby. The Native Americans' most extensive trading center was here.
 \n\nTo bring\n\nBackpack\nSnacks/Packed lunch\nWater / Sports drink (1.5 l
 iters)\nSneakers/ good tennis shoes\nHat\nSunglasses
CATEGORIES:Hiking,Walk
END:VEVENT
BEGIN:VTIMEZONE
TZID:America/New_York
X-LIC-LOCATION:America/New_York
BEGIN:DAYLIGHT
DTSTART:20190310T030000
TZOFFSETFROM:-0500
TZOFFSETTO:-0400
TZNAME:EDT
END:DAYLIGHT
END:VTIMEZONE
END:VCALENDAR